BEGIN:VCALENDAR
VERSION:2.0
PRODID:-//Magic 94.9 - ECPv4.6.26//NONSGML v1.0//EN
CALSCALE:GREGORIAN
METHOD:PUBLISH
X-WR-CALNAME:Magic 94.9
X-ORIGINAL-URL:https://magic949.ca
X-WR-CALDESC:Events for Magic 94.9
BEGIN:VEVENT
DTSTART;VALUE=DATE:20190812
DTEND;VALUE=DATE:20190818
DTSTAMP:20260420T114132
CREATED:20190715T180916Z
LAST-MODIFIED:20190715T180916Z
UID:6406-1565568000-1566086399@magic949.ca
SUMMARY:Annapolis Valley Exhibition
DESCRIPTION:The Annapolis Valley Exhibition; August 12th-17th in Lawrencetown! Click here to find out more. Magic 94.9 is a proud supporter of the Annapolis Valley Ex! \n
URL:https://magic949.ca/event/annapolis-valley-exhibition-3/
END:VEVENT
END:VCALENDAR