BEGIN:VCALENDAR
VERSION:2.0
PRODID:-//Magic 94.9 - ECPv4.6.26//NONSGML v1.0//EN
CALSCALE:GREGORIAN
METHOD:PUBLISH
X-WR-CALNAME:Magic 94.9
X-ORIGINAL-URL:https://magic949.ca
X-WR-CALDESC:Events for Magic 94.9
BEGIN:VEVENT
DTSTART;VALUE=DATE:20230831
DTEND;VALUE=DATE:20230904
DTSTAMP:20260423T114830
CREATED:20230817T160334Z
LAST-MODIFIED:20230817T160919Z
UID:9937-1693440000-1693785599@magic949.ca
SUMMARY:Wharf Rat Rally
DESCRIPTION:The Wharf Rat Rally is one of Canada’s largest motorcycle rallies\, attracting thousands of motorcycles\, riders and spectators to Digby\, Nova Scotia since 2005. The Board of Directors are revved up to announce the Rally’s full return to the Digby Waterfront\, Nova Scotia\, Canada\, on Thursday August 31st through Sunday September 3rd 2023. \nThe 1.2 km stretch of Digby’s main street is closed to nothing but motorcycles and foot traffic\, with events taking advantage of both the streetscape and the surrounding area. This year the Rally will be pulling out all the stops and the air of expectation is palpable. \nDetails will go out regularly each month on activities as the Rally encourages everyone that has ever attended the Rally to return this year\, meet up with old friends\, and make it the best Rally ever. \n“It will be great to see the town filled with crowds and motorcycles on Labor Day weekend. We are all itching to blow off some steam and enjoy this great event.”\, says Rickey Stewart\, Chair of the Board. \nOrganizers are presently working on all the popular activities\, an online 50/50 draw\, new merchandise\, re-engaging builders\, vendors\, registration packs\, prizes\, photo competition\, music\, food and entertainment. With the possibility of a few surprises. \nhttps://wharfratrally.com/ \n
URL:https://magic949.ca/event/wharf-rat-rally-2023/
ATTACH;FMTTYPE=image/jpeg:https://magic949.ca/wp-content/uploads/sites/14/2022/08/wrr-feature.jpg
END:VEVENT
END:VCALENDAR