BEGIN:VCALENDAR
VERSION:2.0
PRODID:-//Magic 94.9 - ECPv4.6.26//NONSGML v1.0//EN
CALSCALE:GREGORIAN
METHOD:PUBLISH
X-WR-CALNAME:Magic 94.9
X-ORIGINAL-URL:https://magic949.ca
X-WR-CALDESC:Events for Magic 94.9
BEGIN:VEVENT
DTSTART;VALUE=DATE:20170522
DTEND;VALUE=DATE:20170523
DTSTAMP:20260421T082523
CREATED:20170405T171841Z
LAST-MODIFIED:20170405T171841Z
UID:353-1495411200-1495497599@magic949.ca
SUMMARY:Victoria Day
DESCRIPTION:
URL:https://magic949.ca/event/victoria-day/
END:VEVENT
END:VCALENDAR