BEGIN:VCALENDAR
VERSION:2.0
PRODID:-//Magic 94.9 - ECPv4.6.26//NONSGML v1.0//EN
CALSCALE:GREGORIAN
METHOD:PUBLISH
X-WR-CALNAME:Magic 94.9
X-ORIGINAL-URL:https://magic949.ca
X-WR-CALDESC:Events for Magic 94.9
BEGIN:VEVENT
DTSTART;VALUE=DATE:20190520
DTEND;VALUE=DATE:20190521
DTSTAMP:20260419T233023
CREATED:20190311T185110Z
LAST-MODIFIED:20190311T185110Z
UID:5752-1558310400-1558396799@magic949.ca
SUMMARY:Victoria Day
DESCRIPTION:
URL:https://magic949.ca/event/victoria-day-2/
END:VEVENT
END:VCALENDAR