BEGIN:VCALENDAR
VERSION:2.0
PRODID:-//Magic 94.9 - ECPv4.6.26//NONSGML v1.0//EN
CALSCALE:GREGORIAN
METHOD:PUBLISH
X-WR-CALNAME:Magic 94.9
X-ORIGINAL-URL:https://magic949.ca
X-WR-CALDESC:Events for Magic 94.9
BEGIN:VEVENT
DTSTART;VALUE=DATE:20190605
DTEND;VALUE=DATE:20190606
DTSTAMP:20260419T205028
CREATED:20190528T192247Z
LAST-MODIFIED:20190528T192247Z
UID:6183-1559692800-1559779199@magic949.ca
SUMMARY:Tim Horton's Camp Day
DESCRIPTION:Visit your neighborhood Tim’s Wednesday June 5th\, buy a coffee and help change a kid’s life! 100% of proceeds from all coffee purchases on Camp Day help send youth from disadvantaged circumstances to a Tim’s Camp! Buy a coffee\, donate $2 for a bracelet\, or make an online donation\, you’re helping to change a kids life. Tim Horton’s Camp Day is proudly supported by Magic 94.9! \n
URL:https://magic949.ca/event/tim-hortons-camp-day/
END:VEVENT
END:VCALENDAR