BEGIN:VCALENDAR
VERSION:2.0
PRODID:-//Magic 94.9 - ECPv4.6.26//NONSGML v1.0//EN
CALSCALE:GREGORIAN
METHOD:PUBLISH
X-WR-CALNAME:Magic 94.9
X-ORIGINAL-URL:https://magic949.ca
X-WR-CALDESC:Events for Magic 94.9
BEGIN:VEVENT
DTSTART;VALUE=DATE:20230719
DTEND;VALUE=DATE:20230720
DTSTAMP:20260425T111415
CREATED:20230628T163907Z
LAST-MODIFIED:20230628T163907Z
UID:9878-1689724800-1689811199@magic949.ca
SUMMARY:Tim Hortons Camp Day
DESCRIPTION:Camp Day® has become an iconic program across the country in which Canadians come together to raise funds to support youth from underserved communities at Tim Hortons Foundation Camps. \nWhen you buy a Tims coffee on Camp Day\, 100% of the proceeds will help send youth to a multi-year life-changing experience at Tim Hortons Foundation Camps. \n
URL:https://magic949.ca/event/tim-hortons-camp-day-4/
ATTACH;FMTTYPE=image/jpeg:https://magic949.ca/wp-content/uploads/sites/14/2023/06/English-Cups.jpeg
END:VEVENT
END:VCALENDAR