BEGIN:VCALENDAR
VERSION:2.0
PRODID:-//Magic 94.9 - ECPv4.6.26//NONSGML v1.0//EN
CALSCALE:GREGORIAN
METHOD:PUBLISH
X-WR-CALNAME:Magic 94.9
X-ORIGINAL-URL:https://magic949.ca
X-WR-CALDESC:Events for Magic 94.9
BEGIN:VEVENT
DTSTART;VALUE=DATE:20180928
DTEND;VALUE=DATE:20181001
DTSTAMP:20260420T133802
CREATED:20180831T162528Z
LAST-MODIFIED:20180920T115716Z
UID:4891-1538092800-1538351999@magic949.ca
SUMMARY:Last Weekend of the Season for the Valley Drive In!
DESCRIPTION:Friday Sept 28th\nSaturday Sept 29th\nSunday Sept 30th\nIt’s their annual ‘Trick or Treat’ event & battle of the Drive Ins! Come out\, support the Coldbrook & District Lions\, and have ONE last night at the drive in for 2018!\nhttps://www.valleydrivein.com/ \n
URL:https://magic949.ca/event/last-weekend-of-the-season-for-the-valley-drive-in/
END:VEVENT
END:VCALENDAR