BEGIN:VCALENDAR
VERSION:2.0
PRODID:-//Magic 94.9 - ECPv4.6.26//NONSGML v1.0//EN
CALSCALE:GREGORIAN
METHOD:PUBLISH
X-WR-CALNAME:Magic 94.9
X-ORIGINAL-URL:https://magic949.ca
X-WR-CALDESC:Events for Magic 94.9
BEGIN:VEVENT
DTSTART;VALUE=DATE:20180921
DTEND;VALUE=DATE:20180924
DTSTAMP:20260420T150634
CREATED:20180831T162200Z
LAST-MODIFIED:20180831T162200Z
UID:4889-1537488000-1537747199@magic949.ca
SUMMARY:Hants County Exhibition
DESCRIPTION:TWO great weekends! Sept 14th-16th & Sept 21st-23rd.\nFind all the details here: \nHome \n \n
URL:https://magic949.ca/event/hants-county-exhibition-4/
END:VEVENT
END:VCALENDAR