BEGIN:VCALENDAR
VERSION:2.0
PRODID:-//Magic 94.9 - ECPv4.6.26//NONSGML v1.0//EN
CALSCALE:GREGORIAN
METHOD:PUBLISH
X-WR-CALNAME:Magic 94.9
X-ORIGINAL-URL:https://magic949.ca
X-WR-CALDESC:Events for Magic 94.9
BEGIN:VEVENT
DTSTART;TZID=UTC+0:20170922T080000
DTEND;TZID=UTC+0:20170924T170000
DTSTAMP:20260421T120924
CREATED:20170829T221700Z
LAST-MODIFIED:20170829T221710Z
UID:825-1506067200-1506272400@magic949.ca
SUMMARY:Hants County Exhibition
DESCRIPTION:For TWO exciting weekends; Sept 15-17th\, and 22-24th! Proudly supported by Magic 949!\nFind out more here:\nhttp://hantscountyex.com/ \n
URL:https://magic949.ca/event/hants-county-exhibition-2/
END:VEVENT
END:VCALENDAR