BEGIN:VCALENDAR
VERSION:2.0
PRODID:-//Magic 94.9 - ECPv4.6.26//NONSGML v1.0//EN
CALSCALE:GREGORIAN
METHOD:PUBLISH
X-WR-CALNAME:Magic 94.9
X-ORIGINAL-URL:https://magic949.ca
X-WR-CALDESC:Events for Magic 94.9
BEGIN:VEVENT
DTSTART;VALUE=DATE:20171001
DTEND;VALUE=DATE:20171002
DTSTAMP:20260422T095933
CREATED:20170829T221953Z
LAST-MODIFIED:20170829T221953Z
UID:831-1506816000-1506902399@magic949.ca
SUMMARY:CIBC's Run for the Cure
DESCRIPTION:Register today & take part in this breast cancer fundraiser! \nhttp://cibcrunforthecure.supportcbcf.com/site/PageServer?pagename=2017_home \n
URL:https://magic949.ca/event/cibcs-run-for-the-cure/
END:VEVENT
END:VCALENDAR