BEGIN:VCALENDAR
VERSION:2.0
PRODID:-//Magic 94.9 - ECPv4.6.26//NONSGML v1.0//EN
CALSCALE:GREGORIAN
METHOD:PUBLISH
X-WR-CALNAME:Magic 94.9
X-ORIGINAL-URL:https://magic949.ca
X-WR-CALDESC:Events for Magic 94.9
BEGIN:VEVENT
DTSTART;VALUE=DATE:20191006
DTEND;VALUE=DATE:20191007
DTSTAMP:20260421T161304
CREATED:20190916T194101Z
LAST-MODIFIED:20190916T194202Z
UID:6667-1570320000-1570406399@magic949.ca
SUMMARY:Canadian Cancer Society CIBC Run for the Cure
DESCRIPTION:Help fight breast cancer! Take part in the event or sponsor someone who is. Find out more here. \n
URL:https://magic949.ca/event/canadian-cancer-society-cibc-run-for-the-cure/
END:VEVENT
END:VCALENDAR