BEGIN:VCALENDAR
VERSION:2.0
PRODID:-//Magic 94.9 - ECPv4.6.26//NONSGML v1.0//EN
CALSCALE:GREGORIAN
METHOD:PUBLISH
X-WR-CALNAME:Magic 94.9
X-ORIGINAL-URL:https://magic949.ca
X-WR-CALDESC:Events for Magic 94.9
BEGIN:VEVENT
DTSTART;VALUE=DATE:20190529
DTEND;VALUE=DATE:20190604
DTSTAMP:20260419T220825
CREATED:20190311T185234Z
LAST-MODIFIED:20190311T185234Z
UID:5756-1559088000-1559606399@magic949.ca
SUMMARY:Apple Blossom Festival
DESCRIPTION:May 29th – June 3rd \nFor everything Apple Blossom\, click here! \n
URL:https://magic949.ca/event/apple-blossom-festival-3/
END:VEVENT
END:VCALENDAR