BEGIN:VCALENDAR
VERSION:2.0
PRODID:-//Magic 94.9 - ECPv4.6.26//NONSGML v1.0//EN
CALSCALE:GREGORIAN
METHOD:PUBLISH
X-WR-CALNAME:Magic 94.9
X-ORIGINAL-URL:https://magic949.ca
X-WR-CALDESC:Events for Magic 94.9
BEGIN:VEVENT
DTSTART;VALUE=DATE:20190320
DTEND;VALUE=DATE:20190321
DTSTAMP:20260420T014530
CREATED:20190311T184846Z
LAST-MODIFIED:20190311T184846Z
UID:5744-1553040000-1553126399@magic949.ca
SUMMARY:1st Day of Spring
DESCRIPTION:
URL:https://magic949.ca/event/1st-day-of-spring-2/
END:VEVENT
END:VCALENDAR